BEGIN:VCALENDAR
VERSION:2.0
PRODID:DPCALENDAR
CALSCALE:GREGORIAN
X-WR-TIMEZONE:UTC
BEGIN:VEVENT
DTSTART;VALUE=DATE:20190416
DTEND;VALUE=DATE:20190417
UID:8fc5770d6034600aed5cbbd9cd234fa8
SUMMARY:Gokart-Fahren
DTSTAMP:20181215T143504Z
DESCRIPTION:
X-ALT-DESC;FMTTYPE=text/html:
X-ACCESS:1
X-MODIFIED:20181215T143518Z
X-HITS:1105
X-URL:
X-COLOR:
END:VEVENT
END:VCALENDAR