BEGIN:VCALENDAR
VERSION:2.0
PRODID:DPCALENDAR
CALSCALE:GREGORIAN
X-WR-TIMEZONE:UTC
BEGIN:VEVENT
DTSTART;VALUE=DATE:20190209
DTEND;VALUE=DATE:20190210
UID:756542976e02f4a4e7ac1743643eace7
SUMMARY:14. Wanger Cup
DTSTAMP:20181215T141701Z
DESCRIPTION:
X-ALT-DESC;FMTTYPE=text/html:
LOCATION:Wangen, Schwyz, Schweiz
GEO:47.19339990;8.89445000
X-ACCESS:1
X-MODIFIED:20181215T143048Z
X-HITS:1342
X-URL:
X-COLOR:
END:VEVENT
END:VCALENDAR