BEGIN:VCALENDAR
VERSION:2.0
PRODID:DPCALENDAR
CALSCALE:GREGORIAN
X-WR-TIMEZONE:UTC
BEGIN:VEVENT
DTSTART;VALUE=DATE:20190112
DTEND;VALUE=DATE:20190113
UID:9737da4905354506508218de1c8a99cb
SUMMARY:Senioren und Veteranenmeisterschaft
DTSTAMP:20181215T141301Z
DESCRIPTION:
X-ALT-DESC;FMTTYPE=text/html:
LOCATION:Wangen, Schwyz, Schweiz
GEO:47.19339990;8.89445000
X-ACCESS:1
X-MODIFIED:20181215T143101Z
X-HITS:1125
X-URL:
X-COLOR:
END:VEVENT
END:VCALENDAR