BEGIN:VCALENDAR
VERSION:2.0
PRODID:DPCALENDAR
CALSCALE:GREGORIAN
X-WR-TIMEZONE:UTC
BEGIN:VEVENT
DTSTART;VALUE=DATE:20250315
DTEND;VALUE=DATE:20250316
UID:f38cbeb51bf19e1debf57b202658b244
SUMMARY:Märchler Faustballderby 
DTSTAMP:20250101T193009Z
DESCRIPTION:
X-ALT-DESC;FMTTYPE=text/html:
LOCATION:Galgenen, Schwyz, Schweiz
GEO:47.18196380;8.87446050
X-ACCESS:1
X-MODIFIED:20250116T165027Z
X-HITS:304
X-URL:
X-COLOR:
END:VEVENT
END:VCALENDAR