BEGIN:VCALENDAR
VERSION:2.0
PRODID:DPCALENDAR
CALSCALE:GREGORIAN
X-WR-TIMEZONE:UTC
BEGIN:VEVENT
DTSTART;VALUE=DATE:20210925
DTEND;VALUE=DATE:20210926
UID:1c37faac7db03ca0dd975a852fbecf65
SUMMARY:Milles Gruyère
DTSTAMP:20210330T191552Z
DESCRIPTION:
X-ALT-DESC;FMTTYPE=text/html:
LOCATION:
X-ACCESS:1
X-MODIFIED:20210330T193851Z
X-HITS:784
X-URL:
X-COLOR:
END:VEVENT
END:VCALENDAR