BEGIN:VCALENDAR
VERSION:2.0
PRODID:DPCALENDAR
CALSCALE:GREGORIAN
X-WR-TIMEZONE:UTC
BEGIN:VEVENT
DTSTART;VALUE=DATE:20190427
DTEND;VALUE=DATE:20190428
UID:a818c6062f6ab9e8820d2d1971b8ef1f
SUMMARY:16. Zürich Marathon
DTSTAMP:20181215T143654Z
DESCRIPTION:
X-ALT-DESC;FMTTYPE=text/html:
LOCATION:Zürich, Zürich, Schweiz
GEO:47.36864980;8.53918250
X-ACCESS:1
X-MODIFIED:20181227T182304Z
X-HITS:1177
X-URL:
X-COLOR:
END:VEVENT
END:VCALENDAR