BEGIN:VCALENDAR
VERSION:2.0
PRODID:DPCALENDAR
CALSCALE:GREGORIAN
X-WR-TIMEZONE:UTC
BEGIN:VEVENT
DTSTART;VALUE=DATE:20181202
DTEND;VALUE=DATE:20181203
UID:7c4f4dfb1a26b9a160300b97f5a498f9
SUMMARY:21. Lachner Weihnachtslauf
DTSTAMP:20171208T213113Z
DESCRIPTION:
X-ALT-DESC;FMTTYPE=text/html:
LOCATION:
X-ACCESS:1
X-MODIFIED:20171208T213138Z
X-HITS:1359
X-URL:
X-COLOR:
END:VEVENT
END:VCALENDAR