BEGIN:VCALENDAR
VERSION:2.0
PRODID:DPCALENDAR
CALSCALE:GREGORIAN
X-WR-TIMEZONE:UTC
BEGIN:VEVENT
DTSTART;VALUE=DATE:20240816
DTEND;VALUE=DATE:20240817
UID:b8cc6d50b45c4efcb9b23e4379c735c4
SUMMARY:34. Rund um den Wägitalersee
DTSTAMP:20231226T174751Z
DESCRIPTION:
X-ALT-DESC;FMTTYPE=text/html:
LOCATION:8858 Innerthal, Schwyz, Schweiz
GEO:47.10000000;8.88333330
X-ACCESS:1
X-MODIFIED:20240106T200457Z
X-HITS:618
X-URL:
X-COLOR:
END:VEVENT
END:VCALENDAR