BEGIN:VCALENDAR
VERSION:2.0
PRODID:DPCALENDAR
CALSCALE:GREGORIAN
X-WR-TIMEZONE:UTC
BEGIN:VEVENT
DTSTART;VALUE=DATE:20230826
DTEND;VALUE=DATE:20230827
UID:d41a481c65971736dbf66de5951ce00e
SUMMARY:Kantonalfinal UBS Kids Cup
DTSTAMP:20221202T213141Z
DESCRIPTION:
X-ALT-DESC;FMTTYPE=text/html:
LOCATION:Ibach, Baden-Württemberg, Deutschland
GEO:47.74464960;8.06645350
X-ACCESS:1
X-MODIFIED:20221214T084830Z
X-HITS:666
X-URL:
X-COLOR:
END:VEVENT
END:VCALENDAR