BEGIN:VCALENDAR
VERSION:2.0
PRODID:DPCALENDAR
CALSCALE:GREGORIAN
X-WR-TIMEZONE:UTC
BEGIN:VEVENT
DTSTART;VALUE=DATE:20230325
DTEND;VALUE=DATE:20230326
UID:f8db38e54160fd1abe6b727a15425687
SUMMARY:UBS Kids Cup Team (Schweizerfinal)
DTSTAMP:20221202T210141Z
DESCRIPTION:
X-ALT-DESC;FMTTYPE=text/html:
LOCATION:Schweiz
X-ACCESS:1
X-MODIFIED:20221214T084105Z
X-HITS:603
X-URL:
X-COLOR:
END:VEVENT
END:VCALENDAR