BEGIN:VCALENDAR
VERSION:2.0
PRODID:DPCALENDAR
CALSCALE:GREGORIAN
X-WR-TIMEZONE:UTC
BEGIN:VEVENT
DTSTART;VALUE=DATE:20230204
DTEND;VALUE=DATE:20230205
UID:eec07d6136b56fc6e7a42a83b9b04ac0
SUMMARY:UBS Kids Cup Team (regionale Ausscheidung)
DTSTAMP:20221202T205232Z
DESCRIPTION:
X-ALT-DESC;FMTTYPE=text/html:
LOCATION:Büttikon, Aargau, Schweiz
GEO:47.32845000;8.27139000
X-ACCESS:1
X-MODIFIED:20221214T083847Z
X-HITS:633
X-URL:
X-COLOR:
END:VEVENT
END:VCALENDAR