BEGIN:VCALENDAR
VERSION:2.0
PRODID:DPCALENDAR
CALSCALE:GREGORIAN
X-WR-TIMEZONE:UTC
BEGIN:VEVENT
DTSTART;VALUE=DATE:20220917
DTEND;VALUE=DATE:20220918
UID:f69c0bb9a9ee8dafb3a4afc4c82fee9f
SUMMARY:Swiss Athletics Sprint Schweizerfinal
DTSTAMP:20220115T170555Z
DESCRIPTION:
X-ALT-DESC;FMTTYPE=text/html:
LOCATION:Winterthur, Zürich, Schweiz
GEO:47.49881960;8.72368890
X-ACCESS:1
X-MODIFIED:20220512T142557Z
X-HITS:757
X-URL:
X-COLOR:
END:VEVENT
END:VCALENDAR