BEGIN:VCALENDAR
VERSION:2.0
PRODID:DPCALENDAR
CALSCALE:GREGORIAN
X-WR-TIMEZONE:UTC
BEGIN:VEVENT
DTSTART;VALUE=DATE:20220326
DTEND;VALUE=DATE:20220327
UID:a5e89c38c2219af4823b34706f65c10b
SUMMARY:UBS Kids Cup Team Schweizerfinal
DTSTAMP:20220115T162552Z
DESCRIPTION:
X-ALT-DESC;FMTTYPE=text/html:
LOCATION:Willisau, Luzern, Schweiz
GEO:47.12117630;7.99248880
X-ACCESS:1
X-MODIFIED:20220206T195051Z
X-HITS:691
X-URL:
X-COLOR:
END:VEVENT
END:VCALENDAR