BEGIN:VCALENDAR
VERSION:2.0
PRODID:DPCALENDAR
CALSCALE:GREGORIAN
X-WR-TIMEZONE:UTC
BEGIN:VEVENT
DTSTART;VALUE=DATE:20220115
DTEND;VALUE=DATE:20220117
UID:3d34caecfec9f61061c3f55688fa6710
SUMMARY:Regionalkader Trainingslager
DTSTAMP:20220115T161405Z
DESCRIPTION:
X-ALT-DESC;FMTTYPE=text/html:
LOCATION:Schweiz
X-ACCESS:1
X-MODIFIED:20220115T161521Z
X-HITS:629
X-URL:
X-COLOR:
END:VEVENT
END:VCALENDAR