BEGIN:VCALENDAR
VERSION:2.0
PRODID:DPCALENDAR
CALSCALE:GREGORIAN
X-WR-TIMEZONE:UTC
BEGIN:VEVENT
DTSTART;VALUE=DATE:20210911
DTEND;VALUE=DATE:20210912
UID:741006159ec8f44af349d92d5abae8da
SUMMARY:Schweizerfinal UBS Kids Cup
DTSTAMP:20210330T191059Z
DESCRIPTION:
X-ALT-DESC;FMTTYPE=text/html:
LOCATION:
X-ACCESS:1
X-MODIFIED:20210518T111329Z
X-HITS:800
X-URL:
X-COLOR:
END:VEVENT
END:VCALENDAR