BEGIN:VCALENDAR
VERSION:2.0
PRODID:DPCALENDAR
CALSCALE:GREGORIAN
X-WR-TIMEZONE:UTC
BEGIN:VEVENT
DTSTART;VALUE=DATE:20210417
DTEND;VALUE=DATE:20210418
UID:3f03a57597f7af86ea6a721d9da34b29
SUMMARY:4. Trainingstag LVS outdoor
DTSTAMP:20210330T184625Z
DESCRIPTION:
X-ALT-DESC;FMTTYPE=text/html:
LOCATION:Ibach, Baden-Württemberg, Deutschland
GEO:47.74464960;8.06645350
X-ACCESS:1
X-MODIFIED:20210409T133333Z
X-HITS:755
X-URL:
X-COLOR:
END:VEVENT
END:VCALENDAR