BEGIN:VCALENDAR
VERSION:2.0
PRODID:DPCALENDAR
CALSCALE:GREGORIAN
X-WR-TIMEZONE:UTC
BEGIN:VEVENT
DTSTART;VALUE=DATE:20200314
DTEND;VALUE=DATE:20200315
UID:0e8ec74db27d39e2a9e45856491678f8
SUMMARY:3. LVS Trainingstag
DTSTAMP:20191214T091501Z
DESCRIPTION:
X-ALT-DESC;FMTTYPE=text/html:
LOCATION:8808 Freienbach, Schwyz, Schweiz
GEO:47.20142070;8.77772410
X-ACCESS:1
X-MODIFIED:20200224T200630Z
X-HITS:1187
X-URL:
X-COLOR:
END:VEVENT
END:VCALENDAR