BEGIN:VCALENDAR
VERSION:2.0
PRODID:DPCALENDAR
CALSCALE:GREGORIAN
X-WR-TIMEZONE:UTC
BEGIN:VEVENT
DTSTART;VALUE=DATE:20200201
DTEND;VALUE=DATE:20200203
UID:801bbca64cbd0aa6cbe6a27d8c5ec1c1
SUMMARY:nationales Hallenmeeting
DTSTAMP:20191214T090225Z
DESCRIPTION:
X-ALT-DESC;FMTTYPE=text/html:
LOCATION:Leubringen, Bern, Schweiz
GEO:47.14949790;7.23800750
X-ACCESS:1
X-MODIFIED:20191214T090252Z
X-HITS:1045
X-URL:
X-COLOR:
END:VEVENT
END:VCALENDAR