BEGIN:VCALENDAR
VERSION:2.0
PRODID:DPCALENDAR
CALSCALE:GREGORIAN
X-WR-TIMEZONE:UTC
BEGIN:VEVENT
DTSTART;VALUE=DATE:20190913
DTEND;VALUE=DATE:20190915
UID:87cdc7417c9cc74fc7a666453685db9b
SUMMARY:Schweizerfinal LMM Meisterschaft
DTSTAMP:20181215T151106Z
DESCRIPTION:
X-ALT-DESC;FMTTYPE=text/html:
X-ACCESS:1
X-MODIFIED:20190604T193441Z
X-HITS:1219
X-URL:
X-COLOR:
END:VEVENT
END:VCALENDAR