BEGIN:VCALENDAR
VERSION:2.0
PRODID:DPCALENDAR
CALSCALE:GREGORIAN
X-WR-TIMEZONE:UTC
BEGIN:VEVENT
DTSTART;VALUE=DATE:20180825
DTEND;VALUE=DATE:20180826
UID:a87ca9d190725aaf7ff0b1f28c0eb139
SUMMARY:Kantonalfinal UBS Kids Cup
DTSTAMP:20170102T193031Z
DESCRIPTION:
X-ALT-DESC;FMTTYPE=text/html:
LOCATION:Einsiedeln, Schwyz, Schweiz
GEO:47.12811610;8.74426900
X-ACCESS:1
X-MODIFIED:20180128T144417Z
X-HITS:1198
X-URL:
X-COLOR:
END:VEVENT
END:VCALENDAR