BEGIN:VCALENDAR
VERSION:2.0
PRODID:DPCALENDAR
CALSCALE:GREGORIAN
X-WR-TIMEZONE:UTC
BEGIN:VEVENT
DTSTART;VALUE=DATE:20180819
DTEND;VALUE=DATE:20180820
UID:b644b90303a53ad6ee02b860511a2a5d
SUMMARY:Kantonewettkampf U14/U16
DTSTAMP:20170102T193343Z
DESCRIPTION:
X-ALT-DESC;FMTTYPE=text/html:
LOCATION:6023 Rothenburg, Luzern, Schweiz
GEO:47.08819100;8.24917700
X-ACCESS:1
X-MODIFIED:20180128T144328Z
X-HITS:1333
X-URL:
X-COLOR:
END:VEVENT
END:VCALENDAR