BEGIN:VCALENDAR
VERSION:2.0
PRODID:DPCALENDAR
CALSCALE:GREGORIAN
X-WR-TIMEZONE:UTC
BEGIN:VEVENT
DTSTART;VALUE=DATE:20180211
DTEND;VALUE=DATE:20180212
UID:b7ff4b244f94428fc260c6c3bc96e4b7
SUMMARY:UBS KidsCup Team (Regionalfinal)
DTSTAMP:20171208T202854Z
DESCRIPTION:
X-ALT-DESC;FMTTYPE=text/html:
LOCATION:
X-ACCESS:1
X-MODIFIED:20171208T213855Z
X-HITS:1095
X-URL:
X-COLOR:
END:VEVENT
END:VCALENDAR