BEGIN:VCALENDAR
VERSION:2.0
PRODID:DPCALENDAR
CALSCALE:GREGORIAN
X-WR-TIMEZONE:UTC
BEGIN:VEVENT
DTSTART;VALUE=DATE:20180211
DTEND;VALUE=DATE:20180212
UID:72ba0471a373c8b11677abe064a60fa9
SUMMARY:UBS Kids Cup Team (Regionalfinal)
DTSTAMP:20171208T202830Z
DESCRIPTION:
X-ALT-DESC;FMTTYPE=text/html:
LOCATION:
X-ACCESS:1
X-MODIFIED:20171208T213841Z
X-HITS:1127
X-URL:
X-COLOR:
END:VEVENT
END:VCALENDAR