BEGIN:VCALENDAR
VERSION:2.0
PRODID:DPCALENDAR
CALSCALE:GREGORIAN
X-WR-TIMEZONE:UTC
BEGIN:VEVENT
DTSTART;VALUE=DATE:20180210
DTEND;VALUE=DATE:20180212
UID:c0ba74871e816b6f4e213a7599a9e01b
SUMMARY:Hallen SM U16 / U18 / U20
DTSTAMP:20171208T202759Z
DESCRIPTION:
X-ALT-DESC;FMTTYPE=text/html:
LOCATION:Sankt Gallen, Sankt Gallen, Schweiz
GEO:47.41792840;9.36439680
X-ACCESS:1
X-MODIFIED:20171208T213827Z
X-HITS:1103
X-URL:
X-COLOR:
END:VEVENT
END:VCALENDAR