BEGIN:VCALENDAR
VERSION:2.0
PRODID:DPCALENDAR
CALSCALE:GREGORIAN
X-WR-TIMEZONE:UTC
BEGIN:VEVENT
DTSTART;VALUE=DATE:20180203
DTEND;VALUE=DATE:20180205
UID:9327dc54a2f4d751ecc617f6084bc79b
SUMMARY:Nationales Hallenmeeting
DTSTAMP:20171208T202647Z
DESCRIPTION:
X-ALT-DESC;FMTTYPE=text/html:
LOCATION:Leubringen, Bern, Schweiz
GEO:47.14949790;7.23800750
X-ACCESS:1
X-MODIFIED:20171208T213758Z
X-HITS:1078
X-URL:
X-COLOR:
END:VEVENT
END:VCALENDAR