BEGIN:VCALENDAR
VERSION:2.0
PRODID:DPCALENDAR
CALSCALE:GREGORIAN
X-WR-TIMEZONE:UTC
BEGIN:VEVENT
DTSTART;VALUE=DATE:20180127
DTEND;VALUE=DATE:20180128
UID:c4304cd79b656caabf395ffa2f0287db
SUMMARY:UBS Kids Cup Team (lokale Ausscheidung)
DTSTAMP:20171208T202552Z
DESCRIPTION:
X-ALT-DESC;FMTTYPE=text/html:
LOCATION:Büttikon, Aargau, Schweiz
GEO:47.32845000;8.27139000
X-ACCESS:1
X-MODIFIED:20171208T213744Z
X-HITS:1114
X-URL:
X-COLOR:
END:VEVENT
END:VCALENDAR