BEGIN:VCALENDAR
VERSION:2.0
PRODID:DPCALENDAR
CALSCALE:GREGORIAN
X-WR-TIMEZONE:UTC
BEGIN:VEVENT
DTSTART;VALUE=DATE:20180121
DTEND;VALUE=DATE:20180122
UID:9652fc9db01d6118924a146f6e8f1f2c
SUMMARY:Hallenmeeting U16 / U18/ U20
DTSTAMP:20171208T202314Z
DESCRIPTION:
X-ALT-DESC;FMTTYPE=text/html:
LOCATION:Sankt Gallen, Sankt Gallen, Schweiz
GEO:47.41792840;9.36439680
X-ACCESS:1
X-MODIFIED:20171208T213720Z
X-HITS:1063
X-URL:
X-COLOR:
END:VEVENT
END:VCALENDAR