BEGIN:VCALENDAR
VERSION:2.0
PRODID:DPCALENDAR
CALSCALE:GREGORIAN
X-WR-TIMEZONE:UTC
BEGIN:VEVENT
DTSTART;VALUE=DATE:20180120
DTEND;VALUE=DATE:20180122
UID:9fa390f9d1a402be453e69b72fc4e08e
SUMMARY:Hallenmeeting
DTSTAMP:20171208T202232Z
DESCRIPTION:
X-ALT-DESC;FMTTYPE=text/html:
LOCATION:Leubringen, Bern, Schweiz
GEO:47.14949790;7.23800750
X-ACCESS:1
X-MODIFIED:20171208T213703Z
X-HITS:1098
X-URL:
X-COLOR:
END:VEVENT
END:VCALENDAR