BEGIN:VCALENDAR
VERSION:2.0
PRODID:DPCALENDAR
CALSCALE:GREGORIAN
X-WR-TIMEZONE:UTC
BEGIN:VEVENT
DTSTART;VALUE=DATE:20170917
DTEND;VALUE=DATE:20170918
UID:b8178173b673521e2ab0e5dd2148e3db
SUMMARY:Swiss Athletics Sprint Schweizerfinal 
DTSTAMP:20170102T194459Z
DESCRIPTION:
X-ALT-DESC;FMTTYPE=text/html:
LOCATION:Chiasso, Tessin, Schweiz
GEO:45.83669990;9.02461110
X-ACCESS:1
X-MODIFIED:20170102T194542Z
X-HITS:1122
X-URL:
X-COLOR:
END:VEVENT
END:VCALENDAR