BEGIN:VCALENDAR
VERSION:2.0
PRODID:DPCALENDAR
CALSCALE:GREGORIAN
X-WR-TIMEZONE:UTC
BEGIN:VEVENT
DTSTART;VALUE=DATE:20170909
DTEND;VALUE=DATE:20170911
UID:6d3693c806cf077b5c41ba1d9c9f82be
SUMMARY:SM Leichtathletik Nachwuchs U16/U18
DTSTAMP:20170102T194153Z
DESCRIPTION:
X-ALT-DESC;FMTTYPE=text/html:
LOCATION:Winterthur, Zürich, Schweiz
GEO:47.49881960;8.72368890
X-ACCESS:1
X-MODIFIED:20170102T194227Z
X-HITS:1254
X-URL:
X-COLOR:
END:VEVENT
END:VCALENDAR