BEGIN:VCALENDAR
VERSION:2.0
PRODID:DPCALENDAR
CALSCALE:GREGORIAN
X-WR-TIMEZONE:UTC
BEGIN:VEVENT
DTSTART;VALUE=DATE:20170830
DTEND;VALUE=DATE:20170831
UID:1af9549ae9c4956eed57f10ad9e865ca
SUMMARY:Kt. Final Swiss Athletics Sprint
DTSTAMP:20170102T194023Z
DESCRIPTION:
X-ALT-DESC;FMTTYPE=text/html:
LOCATION:Ibach, Baden-Württemberg, Deutschland
GEO:47.74464960;8.06645350
X-ACCESS:1
X-MODIFIED:20170806T095356Z
X-HITS:1148
X-URL:
X-COLOR:
END:VEVENT
END:VCALENDAR