BEGIN:VCALENDAR
VERSION:2.0
PRODID:DPCALENDAR
CALSCALE:GREGORIAN
X-WR-TIMEZONE:UTC
BEGIN:VEVENT
DTSTART;VALUE=DATE:20170325
DTEND;VALUE=DATE:20170326
UID:41991a79635e2ca7fa02c6b6dc3d56a9
SUMMARY:UBS Kids Cup Team Schweizerfinal		
DTSTAMP:20170102T190139Z
DESCRIPTION:
X-ALT-DESC;FMTTYPE=text/html:
LOCATION:Untersiggenthal, Aargau, Schweiz
GEO:47.49786120;8.26383090
X-ACCESS:1
X-MODIFIED:20170102T190211Z
X-HITS:1007
X-URL:
X-COLOR:
END:VEVENT
END:VCALENDAR