BEGIN:VCALENDAR
VERSION:2.0
PRODID:DPCALENDAR
CALSCALE:GREGORIAN
X-WR-TIMEZONE:UTC
BEGIN:VEVENT
DTSTART;VALUE=DATE:20170311
DTEND;VALUE=DATE:20170312
UID:3fec497381541ce499ea09f6bc5fcc4a
SUMMARY:4. LVS-Trainingstag  Outdoor		
DTSTAMP:20170102T185703Z
DESCRIPTION:
X-ALT-DESC;FMTTYPE=text/html:
LOCATION:Ibach, Baden-Württemberg, Deutschland
GEO:47.74464960;8.06645350
X-ACCESS:1
X-MODIFIED:20170102T185820Z
X-HITS:1075
X-URL:
X-COLOR:
END:VEVENT
END:VCALENDAR