BEGIN:VCALENDAR
VERSION:2.0
PRODID:DPCALENDAR
CALSCALE:GREGORIAN
X-WR-TIMEZONE:UTC
BEGIN:VEVENT
DTSTART;VALUE=DATE:20160917
DTEND;VALUE=DATE:20160918
UID:22cb06191c32b4f82cf91731e70862f7
SUMMARY:28. Nationales Bettagsmeeting
DTSTAMP:20151226T201808Z
DESCRIPTION:
X-ALT-DESC;FMTTYPE=text/html:
LOCATION:Zug, Zug, Schweiz
GEO:47.17458870;8.51385400
X-ACCESS:1
X-MODIFIED:20151226T201917Z
X-HITS:1207
X-URL:
X-COLOR:
END:VEVENT
END:VCALENDAR