BEGIN:VCALENDAR
VERSION:2.0
PRODID:DPCALENDAR
CALSCALE:GREGORIAN
X-WR-TIMEZONE:UTC
BEGIN:VEVENT
DTSTART;VALUE=DATE:20160910
DTEND;VALUE=DATE:20160912
UID:5eb57d8d409baa9669ddbf68ad7faf8b
SUMMARY:SM Leichtathletiknachwuchs U16 / U18
DTSTAMP:20151226T201606Z
DESCRIPTION:
X-ALT-DESC;FMTTYPE=text/html:
LOCATION:Aarau, Aargau, Schweiz
GEO:47.39043400;8.04570150
X-ACCESS:1
X-MODIFIED:20151226T205212Z
X-HITS:1236
X-URL:
X-COLOR:
END:VEVENT
END:VCALENDAR