BEGIN:VCALENDAR
VERSION:2.0
PRODID:DPCALENDAR
CALSCALE:GREGORIAN
X-WR-TIMEZONE:UTC
BEGIN:VEVENT
DTSTART;VALUE=DATE:20160821
DTEND;VALUE=DATE:20160822
UID:653c5061ed63be32b6a7485c44314705
SUMMARY:Kantone Wettkampf U14 / U16
DTSTAMP:20151226T182547Z
DESCRIPTION:
X-ALT-DESC;FMTTYPE=text/html:
LOCATION:Thurgau, Schweiz
GEO:47.60378560;9.05573710
X-ACCESS:1
X-MODIFIED:20151226T205125Z
X-HITS:1310
X-URL:
X-COLOR:
END:VEVENT
END:VCALENDAR