BEGIN:VCALENDAR
VERSION:2.0
PRODID:DPCALENDAR
CALSCALE:GREGORIAN
X-WR-TIMEZONE:UTC
BEGIN:VEVENT
DTSTART;VALUE=DATE:20151107
DTEND;VALUE=DATE:20151109
UID:ccc4707fb2e143f63fc220e6f9182a8a
SUMMARY:SM GETU Mannschaft und Einzel-Turner
DTSTAMP:20150123T184654Z
DESCRIPTION:
X-ALT-DESC;FMTTYPE=text/html:
LOCATION:Willisau, Luzern, Schweiz
GEO:47.12117630;7.99248880
X-ACCESS:1
X-MODIFIED:20150406T164025Z
X-HITS:1164
X-URL:
X-COLOR:
END:VEVENT
END:VCALENDAR