BEGIN:VCALENDAR
VERSION:2.0
PRODID:DPCALENDAR
CALSCALE:GREGORIAN
X-WR-TIMEZONE:UTC
BEGIN:VEVENT
DTSTART;VALUE=DATE:20151031
DTEND;VALUE=DATE:20151102
UID:0f8d49e8347e380a60f33709e46824f9
SUMMARY:SM GETU Mannschaft Turnerinnen
DTSTAMP:20150123T184654Z
DESCRIPTION:
X-ALT-DESC;FMTTYPE=text/html:
LOCATION:Frauenfeld, Thurgau, Schweiz
GEO:47.55730390;8.89940700
X-ACCESS:1
X-MODIFIED:20150406T163852Z
X-HITS:1215
X-URL:
X-COLOR:
END:VEVENT
END:VCALENDAR