BEGIN:VCALENDAR
VERSION:2.0
PRODID:DPCALENDAR
CALSCALE:GREGORIAN
X-WR-TIMEZONE:UTC
BEGIN:VEVENT
DTSTART;VALUE=DATE:20150829
DTEND;VALUE=DATE:20150830
UID:5b30a752197e9b75318dc5f9ee7076b3
SUMMARY:22. Schwyzer Kt. Gerätecup
DTSTAMP:20150123T184654Z
DESCRIPTION:Organisator : offen
X-ALT-DESC;FMTTYPE=text/html:<p>Organisator : offen</p>
LOCATION:Wollerau, Schwyz, Schweiz
GEO:47.19711380;8.71977600
X-ACCESS:1
X-MODIFIED:20150406T163651Z
X-HITS:1366
X-URL:
X-COLOR:
END:VEVENT
END:VCALENDAR