BEGIN:VCALENDAR
VERSION:2.0
PRODID:DPCALENDAR
CALSCALE:GREGORIAN
X-WR-TIMEZONE:UTC
BEGIN:VEVENT
DTSTART;VALUE=DATE:20150926
DTEND;VALUE=DATE:20150928
UID:176b5be3672d60db0cd4f21a62734267
SUMMARY:Glarner Gerätecup
DTSTAMP:20150123T184654Z
DESCRIPTION:
X-ALT-DESC;FMTTYPE=text/html:
LOCATION:
X-ACCESS:1
X-MODIFIED:20150406T163434Z
X-HITS:1423
X-URL:
X-COLOR:
END:VEVENT
END:VCALENDAR