BEGIN:VCALENDAR
VERSION:2.0
PRODID:DPCALENDAR
CALSCALE:GREGORIAN
X-WR-TIMEZONE:UTC
BEGIN:VEVENT
DTSTART;VALUE=DATE:20150919
DTEND;VALUE=DATE:20150920
UID:0eae4c2b3570c575ef0bf2e20fb81664
SUMMARY:Schaffhauser GETU Kt. Meisterschaft
DTSTAMP:20150123T184654Z
DESCRIPTION:
X-ALT-DESC;FMTTYPE=text/html:
LOCATION:Schaffhausen, Schaffhausen, Schweiz
GEO:47.70776640;8.64144240
X-ACCESS:1
X-MODIFIED:20150406T163305Z
X-HITS:1255
X-URL:
X-COLOR:
END:VEVENT
END:VCALENDAR