BEGIN:VCALENDAR
VERSION:2.0
PRODID:DPCALENDAR
CALSCALE:GREGORIAN
X-WR-TIMEZONE:UTC
BEGIN:VEVENT
DTSTART;VALUE=DATE:20150822
DTEND;VALUE=DATE:20150823
UID:7f64ce7357878a28b594f1162cbf6000
SUMMARY:Appenzeller GETU Kt. Meisterschaft
DTSTAMP:20150123T184654Z
DESCRIPTION:
X-ALT-DESC;FMTTYPE=text/html:
LOCATION:Heiden, Appenzell Ausserrhoden, Schweiz
GEO:47.44435590;9.53353890
X-ACCESS:1
X-MODIFIED:20150406T163117Z
X-HITS:1342
X-URL:
X-COLOR:
END:VEVENT
END:VCALENDAR