BEGIN:VCALENDAR
VERSION:2.0
PRODID:DPCALENDAR
CALSCALE:GREGORIAN
X-WR-TIMEZONE:UTC
BEGIN:VEVENT
DTSTART;VALUE=DATE:20150802
DTEND;VALUE=DATE:20150809
UID:befbe34034eaa908a6b8e3ac1779b3c5
SUMMARY:internes Trainingslager
DTSTAMP:20150123T184654Z
DESCRIPTION:Organisator : Walter Egli
X-ALT-DESC;FMTTYPE=text/html:<p>Organisator : Walter Egli</p>
LOCATION:Schweiz
GEO:46.81818800;8.22751200
X-ACCESS:1
X-MODIFIED:20150126T182108Z
X-HITS:1146
X-URL:
X-COLOR:
END:VEVENT
END:VCALENDAR