BEGIN:VCALENDAR
VERSION:2.0
PRODID:DPCALENDAR
CALSCALE:GREGORIAN
X-WR-TIMEZONE:UTC
BEGIN:VEVENT
DTSTART;VALUE=DATE:20150613
DTEND;VALUE=DATE:20150615
UID:f89d7076e1527129de58222d8c2b3408
SUMMARY:6. Uristier-Cup
DTSTAMP:20150123T184654Z
DESCRIPTION:
X-ALT-DESC;FMTTYPE=text/html:
LOCATION:Schattdorf, Uri, Schweiz
GEO:46.86398000;8.64807000
X-ACCESS:1
X-MODIFIED:20150406T162811Z
X-HITS:1089
X-URL:
X-COLOR:
END:VEVENT
END:VCALENDAR