BEGIN:VCALENDAR
VERSION:2.0
PRODID:DPCALENDAR
CALSCALE:GREGORIAN
X-WR-TIMEZONE:UTC
BEGIN:VEVENT
DTSTART;VALUE=DATE:20150530
DTEND;VALUE=DATE:20150531
UID:0d7b0157028a1d11668243ba1d0ec291
SUMMARY:GLTV Jugendturnfest
DTSTAMP:20150123T184654Z
DESCRIPTION:
X-ALT-DESC;FMTTYPE=text/html:
LOCATION:
X-ACCESS:1
X-MODIFIED:20150406T162722Z
X-HITS:1127
X-URL:
X-COLOR:
END:VEVENT
END:VCALENDAR