BEGIN:VCALENDAR
VERSION:2.0
PRODID:DPCALENDAR
CALSCALE:GREGORIAN
X-WR-TIMEZONE:UTC
BEGIN:VEVENT
DTSTART;VALUE=DATE:20150516
DTEND;VALUE=DATE:20150517
UID:35001c3f5e34cba14acf64e3396b9d62
SUMMARY:Märchler Derby Geräteturnen
DTSTAMP:20150123T184654Z
DESCRIPTION:Organisator : STV Reichenburg
X-ALT-DESC;FMTTYPE=text/html:<p>Organisator : STV Reichenburg</p>
LOCATION:Reichenburg, Schwyz, Schweiz
GEO:47.16977460;8.97550590
X-ACCESS:1
X-MODIFIED:20150406T162421Z
X-HITS:1409
X-URL:
X-COLOR:
END:VEVENT
END:VCALENDAR