BEGIN:VCALENDAR
VERSION:2.0
PRODID:DPCALENDAR
CALSCALE:GREGORIAN
X-WR-TIMEZONE:UTC
BEGIN:VEVENT
DTSTART;VALUE=DATE:20150509
DTEND;VALUE=DATE:20150510
UID:1cc886ee824dfe3f56c1f394d49e176c
SUMMARY:26. Zuger GETU-Cup Turner
DTSTAMP:20150123T184654Z
DESCRIPTION:
X-ALT-DESC;FMTTYPE=text/html:
LOCATION:Schweiz
GEO:46.81818800;8.22751200
X-ACCESS:1
X-MODIFIED:20150126T182051Z
X-HITS:1185
X-URL:
X-COLOR:
END:VEVENT
END:VCALENDAR