BEGIN:VCALENDAR
VERSION:2.0
PRODID:DPCALENDAR
CALSCALE:GREGORIAN
X-WR-TIMEZONE:UTC
BEGIN:VEVENT
DTSTART;VALUE=DATE:20150503
DTEND;VALUE=DATE:20150504
UID:cc5c3d7a4399fc77c67604c99c0420b3
SUMMARY:Appenzeller Frühlingsmeisterschaften
DTSTAMP:20150123T184654Z
DESCRIPTION:
X-ALT-DESC;FMTTYPE=text/html:
LOCATION:Teufen, Appenzell Ausserrhoden, Schweiz
GEO:47.39017260;9.38815470
X-ACCESS:1
X-MODIFIED:20150406T162115Z
X-HITS:1111
X-URL:
X-COLOR:
END:VEVENT
END:VCALENDAR