BEGIN:VCALENDAR
VERSION:2.0
PRODID:DPCALENDAR
CALSCALE:GREGORIAN
X-WR-TIMEZONE:UTC
BEGIN:VEVENT
DTSTART;VALUE=DATE:20150502
DTEND;VALUE=DATE:20150503
UID:54f00eaa924fac4c7d96d6302022273b
SUMMARY:Campionnat Jurassien
DTSTAMP:20150123T184654Z
DESCRIPTION:
X-ALT-DESC;FMTTYPE=text/html:
LOCATION:Delsberg, Jura, Schweiz
GEO:47.36574570;7.34521250
X-ACCESS:1
X-MODIFIED:20150406T162030Z
X-HITS:1054
X-URL:
X-COLOR:
END:VEVENT
END:VCALENDAR