BEGIN:VCALENDAR
VERSION:2.0
PRODID:DPCALENDAR
CALSCALE:GREGORIAN
X-WR-TIMEZONE:UTC
BEGIN:VEVENT
DTSTART;VALUE=DATE:20150418
DTEND;VALUE=DATE:20150419
UID:94d6f6fdd436cc7932692a065c3d7d5f
SUMMARY:GETU Frühlingsmeisterschaften
DTSTAMP:20150123T184654Z
DESCRIPTION:Organisator : STV Einsiedeln
X-ALT-DESC;FMTTYPE=text/html:<p>Organisator : STV Einsiedeln</p>
LOCATION:Einsiedeln, Schwyz, Schweiz
GEO:47.12811610;8.74426900
X-ACCESS:1
X-MODIFIED:20150123T185150Z
X-HITS:1134
X-URL:
X-COLOR:
END:VEVENT
END:VCALENDAR